BEGIN:VCALENDAR
VERSION:2.0
PRODID:-//wp-events-plugin.com//7.2.3//EN
TZID:Europe/Berlin
X-WR-TIMEZONE:Europe/Berlin
BEGIN:VEVENT
UID:14@scb2023.com
DTSTART;TZID=Europe/Berlin:20240720T130000
DTEND;TZID=Europe/Berlin:20240720T210000
DTSTAMP:20240531T133532Z
URL:https://scb2023.com/veranstaltungen/fkossfahrt-mainschleife/
SUMMARY:Floßfahrt Mainschleife
DESCRIPTION:
CATEGORIES:Floßfahrt
END:VEVENT
BEGIN:VTIMEZONE
TZID:Europe/Berlin
X-LIC-LOCATION:Europe/Berlin
BEGIN:DAYLIGHT
DTSTART:20240331T030000
TZOFFSETFROM:+0100
TZOFFSETTO:+0200
TZNAME:CEST
END:DAYLIGHT
END:VTIMEZONE
END:VCALENDAR