BEGIN:VCALENDAR
VERSION:2.0
PRODID:-//wp-events-plugin.com//7.2.3//EN
TZID:Europe/Berlin
X-WR-TIMEZONE:Europe/Berlin
BEGIN:VEVENT
UID:7@scb2023.com
DTSTART;TZID=Europe/Berlin:20230901T173000
DTEND;TZID=Europe/Berlin:20230901T173000
DTSTAMP:20230731T151258Z
URL:https://scb2023.com/veranstaltungen/freitagsgrillen-3/
SUMMARY:Freitagsgrillen
DESCRIPTION:Der Grill wird angeheizt 18.30 Uhr an jedem ersten Freitag im M
 onat\, von Juni bis September.\n\nGrillgut\, Getränke und Geschirr bitte 
 selbst mitbringen!
CATEGORIES:Vereinsveranstaltung
LOCATION:Vereinsgelände in Bug\, Hans-Schmitt-Str.\, Bamberg-Bug\, Deutsch
 land
X-APPLE-STRUCTURED-LOCATION;VALUE=URI;X-ADDRESS=Hans-Schmitt-Str.\, Bamberg
 -Bug\, Deutschland;X-APPLE-RADIUS=100;X-TITLE=Vereinsgelände in Bug:geo:0
 ,0
END:VEVENT
BEGIN:VTIMEZONE
TZID:Europe/Berlin
X-LIC-LOCATION:Europe/Berlin
BEGIN:DAYLIGHT
DTSTART:20230326T030000
TZOFFSETFROM:+0100
TZOFFSETTO:+0200
TZNAME:CEST
END:DAYLIGHT
END:VTIMEZONE
END:VCALENDAR