BEGIN:VCALENDAR
VERSION:2.0
PRODID:-//wp-events-plugin.com//7.2.3//EN
TZID:Europe/Berlin
X-WR-TIMEZONE:Europe/Berlin
BEGIN:VEVENT
UID:34@scb2023.com
DTSTART;TZID=Europe/Berlin:20250316T090000
DTEND;TZID=Europe/Berlin:20250316T090000
DTSTAMP:20241122T145058Z
URL:https://scb2023.com/veranstaltungen/rundwanderung-ebrach-handtal/
SUMMARY:Rundwanderung Ebrach - Handtal
DESCRIPTION:
CATEGORIES:Vereinsveranstaltung
END:VEVENT
BEGIN:VTIMEZONE
TZID:Europe/Berlin
X-LIC-LOCATION:Europe/Berlin
BEGIN:STANDARD
DTSTART:20241027T020000
TZOFFSETFROM:+0200
TZOFFSETTO:+0100
TZNAME:CET
END:STANDARD
END:VTIMEZONE
END:VCALENDAR