BEGIN:VCALENDAR
VERSION:2.0
PRODID:-//wp-events-plugin.com//7.2.3//EN
TZID:Europe/Berlin
X-WR-TIMEZONE:Europe/Berlin
BEGIN:VEVENT
UID:44@scb2023.com
DTSTART;TZID=Europe/Berlin:20250815T160000
DTEND;TZID=Europe/Berlin:20250815T160000
DTSTAMP:20250508T112432Z
URL:https://scb2023.com/veranstaltungen/treffen-wilde-rose-keller/
SUMMARY:Treffen Wilde Rose Keller
DESCRIPTION:
CATEGORIES:Vereinsveranstaltung
END:VEVENT
BEGIN:VTIMEZONE
TZID:Europe/Berlin
X-LIC-LOCATION:Europe/Berlin
BEGIN:DAYLIGHT
DTSTART:20250330T030000
TZOFFSETFROM:+0100
TZOFFSETTO:+0200
TZNAME:CEST
END:DAYLIGHT
END:VTIMEZONE
END:VCALENDAR